{
 "currentVersion": 10.91,
 "serviceDescription": "ImageService/FTM2020AP",
 "name": "ImageService/FTM2020AP",
 "description": "",
 "extent": {
  "xmin": -824806.6389269354,
  "ymin": 765346.3124934328,
  "xmax": 2127913.3610730646,
  "ymax": 4124146.312493433,
  "spatialReference": {
   "wkid": 32644,
   "latestWkid": 32644
  }
 },
 "initialExtent": {
  "xmin": -824806.6389269354,
  "ymin": 765346.3124934328,
  "xmax": 2127913.3610730646,
  "ymax": 4124146.312493433,
  "spatialReference": {
   "wkid": 32644,
   "latestWkid": 32644
  }
 },
 "fullExtent": {
  "xmin": -824806.6389269354,
  "ymin": 765346.3124934328,
  "xmax": 2127913.3610730646,
  "ymax": 4124146.312493433,
  "spatialReference": {
   "wkid": 32644,
   "latestWkid": 32644
  }
 },
 "hasMultidimensions": false,
 "pixelSizeX": 48,
 "pixelSizeY": 48,
 "datasetFormat": "IMAGINE Image",
 "uncompressedSize": 12913536375,
 "blockWidth": 512,
 "blockHeight": 512,
 "compressionType": "None",
 "bandNames": [
  "Layer_1"
 ],
 "allowCopy": true,
 "allowAnalysis": true,
 "bandCount": 3,
 "noDataValue": 256,
 "noDataValues": [
  256,
  256,
  256
 ],
 "pixelType": "U8",
 "minPixelSize": 0,
 "maxPixelSize": 0,
 "copyrightText": "",
 "serviceDataType": "esriImageServiceDataTypeThematic",
 "serviceSourceType": "esriImageServiceSourceTypeDataset",
 "minValues": [],
 "maxValues": [],
 "meanValues": [],
 "stdvValues": [],
 "objectIdField": "",
 "fields": [],
 "capabilities": "Image,Metadata,Mensuration",
 "defaultMosaicMethod": "Center",
 "allowedMosaicMethods": "",
 "sortField": "",
 "sortValue": null,
 "sortAscending": true,
 "mosaicOperator": "First",
 "defaultCompressionQuality": 75,
 "defaultResamplingMethod": "Bilinear",
 "maxImageHeight": 4100,
 "maxImageWidth": 15000,
 "allowRasterFunction": true,
 "rasterFunctionInfos": [
  {
   "name": "None",
   "description": "",
   "help": ""
  }
 ],
 "rasterTypeInfos": [
  {
   "name": "Raster Dataset",
   "description": "Supports all ArcGIS Raster Datasets",
   "help": ""
  }
 ],
 "mensurationCapabilities": "Basic",
 "hasHistograms": false,
 "hasColormap": false,
 "hasRasterAttributeTable": false,
 "minScale": 0,
 "maxScale": 0,
 "exportTilesAllowed": false,
 "supportsStatistics": false,
 "supportsAdvancedQueries": false,
 "editFieldsInfo": null,
 "ownershipBasedAccessControlForRasters": null,
 "allowComputeTiePoints": false,
 "useStandardizedQueries": true,
 "advancedQueryCapabilities": {
  "useStandardizedQueries": true,
  "supportsStatistics": false,
  "supportsOrderBy": false,
  "supportsDistinct": false,
  "supportsPagination": false
 },
 "spatialReference": {
  "wkid": 32644,
  "latestWkid": 32644
 }
}
